BEGIN:VCALENDAR
VERSION:2.0
PRODID:-//amys-pfotenschule.at - ECPv6.10.0//NONSGML v1.0//EN
CALSCALE:GREGORIAN
METHOD:PUBLISH
X-WR-CALNAME:amys-pfotenschule.at
X-ORIGINAL-URL:https://amys-pfotenschule.at
X-WR-CALDESC:Veranstaltungen für amys-pfotenschule.at
REFRESH-INTERVAL;VALUE=DURATION:PT1H
X-Robots-Tag:noindex
X-PUBLISHED-TTL:PT1H
BEGIN:VTIMEZONE
TZID:Europe/Berlin
BEGIN:DAYLIGHT
TZOFFSETFROM:+0100
TZOFFSETTO:+0200
TZNAME:CEST
DTSTART:20250330T010000
END:DAYLIGHT
BEGIN:STANDARD
TZOFFSETFROM:+0200
TZOFFSETTO:+0100
TZNAME:CET
DTSTART:20251026T010000
END:STANDARD
BEGIN:DAYLIGHT
TZOFFSETFROM:+0100
TZOFFSETTO:+0200
TZNAME:CEST
DTSTART:20260329T010000
END:DAYLIGHT
BEGIN:STANDARD
TZOFFSETFROM:+0200
TZOFFSETTO:+0100
TZNAME:CET
DTSTART:20261025T010000
END:STANDARD
END:VTIMEZONE
BEGIN:VEVENT
DTSTART;TZID=Europe/Berlin:20260417T160000
DTEND;TZID=Europe/Berlin:20260417T170000
DTSTAMP:20260425T043909
CREATED:20251228T100035Z
LAST-MODIFIED:20260408T194554Z
UID:3119-1776441600-1776445200@amys-pfotenschule.at
SUMMARY:Sozial Walk 45min
DESCRIPTION:
URL:https://amys-pfotenschule.at/event/sozial-walk-2/
LOCATION:Amys Pfotenschule\, Fading\, Gaspoltshofen\, 4673\, Austria
ATTACH;FMTTYPE=image/png:https://amys-pfotenschule.at/wp-content/uploads/2023/01/Kein-Titel-Logo-6.png
END:VEVENT
BEGIN:VEVENT
DTSTART;TZID=Europe/Berlin:20260412T090000
DTEND;TZID=Europe/Berlin:20260412T100000
DTSTAMP:20260425T043909
CREATED:20251029T094125Z
LAST-MODIFIED:20260408T190730Z
UID:2900-1775984400-1775988000@amys-pfotenschule.at
SUMMARY:Anfänger & Welpen Kursstart
DESCRIPTION: 
URL:https://amys-pfotenschule.at/event/anfaenger-welpen-kursstart/
LOCATION:Wird per Whatsapp bekannt gegeben
ATTACH;FMTTYPE=image/png:https://amys-pfotenschule.at/wp-content/uploads/2025/02/Design-ohne-Titel-12.png
END:VEVENT
BEGIN:VEVENT
DTSTART;TZID=Europe/Berlin:20260329T090000
DTEND;TZID=Europe/Berlin:20260329T100000
DTSTAMP:20260425T043909
CREATED:20260210T090859Z
LAST-MODIFIED:20260210T090940Z
UID:3161-1774774800-1774778400@amys-pfotenschule.at
SUMMARY:Spielstunde
DESCRIPTION: 
URL:https://amys-pfotenschule.at/event/spielstunde-7/
LOCATION:Amys Pfotenschule\, Fading\, Gaspoltshofen\, 4673\, Austria
ATTACH;FMTTYPE=image/png:https://amys-pfotenschule.at/wp-content/uploads/2023/01/Kein-Titel-Logo-8.png
END:VEVENT
BEGIN:VEVENT
DTSTART;TZID=Europe/Berlin:20260320T160000
DTEND;TZID=Europe/Berlin:20260320T170000
DTSTAMP:20260425T043909
CREATED:20260210T084308Z
LAST-MODIFIED:20260210T090501Z
UID:3150-1774022400-1774026000@amys-pfotenschule.at
SUMMARY:KLASSE 2 - Rückruf &Freilauf (4 Einheiten)
DESCRIPTION:Diese Terminart ist leider nicht verfügbar\, bitte versuchen Sie es später erneut
URL:https://amys-pfotenschule.at/event/klasse-2-rueckruf-freilauf-4-einheiten/
LOCATION:Wird per Whatsapp bekannt gegeben
ATTACH;FMTTYPE=image/png:https://amys-pfotenschule.at/wp-content/uploads/2023/01/Kein-Titel-Logo-12.png
END:VEVENT
BEGIN:VEVENT
DTSTART;TZID=Europe/Berlin:20260227T140000
DTEND;TZID=Europe/Berlin:20260227T150000
DTSTAMP:20260425T043909
CREATED:20251228T094156Z
LAST-MODIFIED:20251228T095428Z
UID:3108-1772200800-1772204400@amys-pfotenschule.at
SUMMARY:Alltagstauglichkeitsprüfung
DESCRIPTION:  \n 
URL:https://amys-pfotenschule.at/event/mantrailing-12/
LOCATION:Amys Pfotenschule\, Fading\, Gaspoltshofen\, 4673\, Austria
ATTACH;FMTTYPE=image/png:https://amys-pfotenschule.at/wp-content/uploads/2024/12/Grey-Photo-Studio-Camera-Penline-Logo-15-1.png
END:VEVENT
BEGIN:VEVENT
DTSTART;TZID=Europe/Berlin:20260222T090000
DTEND;TZID=Europe/Berlin:20260222T100000
DTSTAMP:20260425T043909
CREATED:20251110T093347Z
LAST-MODIFIED:20251228T094533Z
UID:3078-1771750800-1771754400@amys-pfotenschule.at
SUMMARY:Spielstunde
DESCRIPTION:Diese Terminart ist leider nicht verfügbar\, bitte versuchen Sie es später erneut\n 
URL:https://amys-pfotenschule.at/event/spielstunde-5/
LOCATION:Amys Pfotenschule\, Fading\, Gaspoltshofen\, 4673\, Austria
ATTACH;FMTTYPE=image/png:https://amys-pfotenschule.at/wp-content/uploads/2023/01/Kein-Titel-Logo-8.png
END:VEVENT
BEGIN:VEVENT
DTSTART;TZID=Europe/Berlin:20260213T130000
DTEND;TZID=Europe/Berlin:20260213T140000
DTSTAMP:20260425T043909
CREATED:20251228T093744Z
LAST-MODIFIED:20251228T093744Z
UID:3105-1770987600-1770991200@amys-pfotenschule.at
SUMMARY:Mantrailing
DESCRIPTION:  \n 
URL:https://amys-pfotenschule.at/event/mantrailing-11/
LOCATION:Amys Pfotenschule\, Fading\, Gaspoltshofen\, 4673\, Austria
ATTACH;FMTTYPE=image/png:https://amys-pfotenschule.at/wp-content/uploads/2025/05/Home-19.png
END:VEVENT
BEGIN:VEVENT
DTSTART;TZID=Europe/Berlin:20260206T130000
DTEND;TZID=Europe/Berlin:20260206T140000
DTSTAMP:20260425T043909
CREATED:20251228T092822Z
LAST-MODIFIED:20251228T092822Z
UID:3100-1770382800-1770386400@amys-pfotenschule.at
SUMMARY:Mantrailing
DESCRIPTION:  \n 
URL:https://amys-pfotenschule.at/event/mantrailing-10/
LOCATION:Amys Pfotenschule\, Fading\, Gaspoltshofen\, 4673\, Austria
ATTACH;FMTTYPE=image/png:https://amys-pfotenschule.at/wp-content/uploads/2025/05/Home-19.png
END:VEVENT
BEGIN:VEVENT
DTSTART;TZID=Europe/Berlin:20260130T160000
DTEND;TZID=Europe/Berlin:20260130T170000
DTSTAMP:20260425T043909
CREATED:20251110T100236Z
LAST-MODIFIED:20251110T101837Z
UID:3080-1769788800-1769792400@amys-pfotenschule.at
SUMMARY:KLASSE 2 - Leinenführung (4 Einheiten)
DESCRIPTION:Diese Terminart ist leider nicht verfügbar\, bitte versuchen Sie es später erneut
URL:https://amys-pfotenschule.at/event/klasse-2-grundkommandos-4std/
LOCATION:Wird per Whatsapp bekannt gegeben
ATTACH;FMTTYPE=image/png:https://amys-pfotenschule.at/wp-content/uploads/2025/05/Home-18.png
END:VEVENT
BEGIN:VEVENT
DTSTART;TZID=Europe/Berlin:20260130T130000
DTEND;TZID=Europe/Berlin:20260130T140000
DTSTAMP:20260425T043909
CREATED:20251228T092603Z
LAST-MODIFIED:20251228T092707Z
UID:3098-1769778000-1769781600@amys-pfotenschule.at
SUMMARY:Mantrailing
DESCRIPTION:  \n 
URL:https://amys-pfotenschule.at/event/mantrailing-9/
LOCATION:Amys Pfotenschule\, Fading\, Gaspoltshofen\, 4673\, Austria
ATTACH;FMTTYPE=image/png:https://amys-pfotenschule.at/wp-content/uploads/2025/05/Home-19.png
END:VEVENT
BEGIN:VEVENT
DTSTART;TZID=Europe/Berlin:20260125T090000
DTEND;TZID=Europe/Berlin:20260125T100000
DTSTAMP:20260425T043909
CREATED:20251228T095653Z
LAST-MODIFIED:20251228T095653Z
UID:3115-1769331600-1769335200@amys-pfotenschule.at
SUMMARY:Spielstunde
DESCRIPTION:Diese Terminart ist leider nicht verfügbar\, bitte versuchen Sie es später erneut\n 
URL:https://amys-pfotenschule.at/event/spielstunde-6/
LOCATION:Amys Pfotenschule\, Fading\, Gaspoltshofen\, 4673\, Austria
ATTACH;FMTTYPE=image/png:https://amys-pfotenschule.at/wp-content/uploads/2023/01/Kein-Titel-Logo-8.png
END:VEVENT
BEGIN:VEVENT
DTSTART;TZID=Europe/Berlin:20260123T130000
DTEND;TZID=Europe/Berlin:20260123T140000
DTSTAMP:20260425T043909
CREATED:20250305T122518Z
LAST-MODIFIED:20251228T091323Z
UID:2295-1769173200-1769176800@amys-pfotenschule.at
SUMMARY:Mantrailing
DESCRIPTION:  \n 
URL:https://amys-pfotenschule.at/event/mantrailing-5/
LOCATION:Amys Pfotenschule\, Fading\, Gaspoltshofen\, 4673\, Austria
ATTACH;FMTTYPE=image/png:https://amys-pfotenschule.at/wp-content/uploads/2025/05/Home-19.png
END:VEVENT
BEGIN:VEVENT
DTSTART;TZID=Europe/Berlin:20260118T090000
DTEND;TZID=Europe/Berlin:20260118T100000
DTSTAMP:20260425T043909
CREATED:20251228T090926Z
LAST-MODIFIED:20251228T090926Z
UID:3089-1768726800-1768730400@amys-pfotenschule.at
SUMMARY:offene Gruppenstunde - Ruhe & Impulsekontrolle
DESCRIPTION:Diese Terminart ist leider nicht verfügbar\, bitte versuchen Sie es später erneut\n 
URL:https://amys-pfotenschule.at/event/offene-gruppenstunde-ruhe-impulsekontrolle/
LOCATION:Amys Pfotenschule\, Fading\, Gaspoltshofen\, 4673\, Austria
ATTACH;FMTTYPE=image/png:https://amys-pfotenschule.at/wp-content/uploads/2022/11/Design-ohne-Titel-1.png
END:VEVENT
BEGIN:VEVENT
DTSTART;TZID=Europe/Berlin:20251205T170000
DTEND;TZID=Europe/Berlin:20251205T180000
DTSTAMP:20260425T043909
CREATED:20250924T104540Z
LAST-MODIFIED:20251114T104309Z
UID:2874-1764954000-1764957600@amys-pfotenschule.at
SUMMARY:Winter Special - Sozial Walk
DESCRIPTION:Diese Terminart ist leider nicht verfügbar\, bitte versuchen Sie es später erneut\n 
URL:https://amys-pfotenschule.at/event/sommer-special-sozial-walk-6/
LOCATION:Wird per Whatsapp bekannt gegeben
ATTACH;FMTTYPE=image/png:https://amys-pfotenschule.at/wp-content/uploads/2025/09/Home-38.png
END:VEVENT
BEGIN:VEVENT
DTSTART;TZID=Europe/Berlin:20251205T143000
DTEND;TZID=Europe/Berlin:20251205T153000
DTSTAMP:20260425T043909
CREATED:20250924T111641Z
LAST-MODIFIED:20251102T073301Z
UID:2898-1764945000-1764948600@amys-pfotenschule.at
SUMMARY:Spielstunde
DESCRIPTION:Diese Terminart ist leider nicht verfügbar\, bitte versuchen Sie es später erneut\n 
URL:https://amys-pfotenschule.at/event/spielstunde-4/
LOCATION:Amys Pfotenschule\, Fading\, Gaspoltshofen\, 4673\, Austria
ATTACH;FMTTYPE=image/png:https://amys-pfotenschule.at/wp-content/uploads/2023/01/Kein-Titel-Logo-8.png
END:VEVENT
BEGIN:VEVENT
DTSTART;TZID=Europe/Berlin:20251130T090000
DTEND;TZID=Europe/Berlin:20251130T100000
DTSTAMP:20260425T043909
CREATED:20250305T122422Z
LAST-MODIFIED:20250924T111244Z
UID:2293-1764493200-1764496800@amys-pfotenschule.at
SUMMARY:offene Gruppenstunde - Trickdog
DESCRIPTION:Diese Terminart ist leider nicht verfügbar\, bitte versuchen Sie es später erneut\n 
URL:https://amys-pfotenschule.at/event/offene-gruppenstunde-trickdog/
LOCATION:Amys Pfotenschule\, Fading\, Gaspoltshofen\, 4673\, Austria
ATTACH;FMTTYPE=image/png:https://amys-pfotenschule.at/wp-content/uploads/2025/05/Home-11.png
END:VEVENT
BEGIN:VEVENT
DTSTART;TZID=Europe/Berlin:20251116T100000
DTEND;TZID=Europe/Berlin:20251116T110000
DTSTAMP:20260425T043909
CREATED:20250924T110603Z
LAST-MODIFIED:20251020T113929Z
UID:2888-1763287200-1763290800@amys-pfotenschule.at
SUMMARY:Sozial Walk
DESCRIPTION:Diese Terminart ist leider nicht verfügbar\, bitte versuchen Sie es später erneut\n 
URL:https://amys-pfotenschule.at/event/sommer-special-sozial-walk-10/
ATTACH;FMTTYPE=image/png:https://amys-pfotenschule.at/wp-content/uploads/2025/05/Home-15.png
END:VEVENT
BEGIN:VEVENT
DTSTART;TZID=Europe/Berlin:20251116T090000
DTEND;TZID=Europe/Berlin:20251116T100000
DTSTAMP:20260425T043909
CREATED:20250924T105644Z
LAST-MODIFIED:20250924T110453Z
UID:2878-1763283600-1763287200@amys-pfotenschule.at
SUMMARY:offene Gruppenstunde - Grundkommandos
DESCRIPTION:Diese Terminart ist leider nicht verfügbar\, bitte versuchen Sie es später erneut\n 
URL:https://amys-pfotenschule.at/event/offene-gruppenstunde-ruhe-orientierung-in-jeder-situation/
LOCATION:Wird per Whatsapp bekannt gegeben
ATTACH;FMTTYPE=image/png:https://amys-pfotenschule.at/wp-content/uploads/2025/05/Home-26.png
END:VEVENT
BEGIN:VEVENT
DTSTART;TZID=Europe/Berlin:20251109T090000
DTEND;TZID=Europe/Berlin:20251109T100000
DTSTAMP:20260425T043909
CREATED:20251004T123655Z
LAST-MODIFIED:20251004T123758Z
UID:2902-1762678800-1762682400@amys-pfotenschule.at
SUMMARY:offene Gruppenstunde - Freies Training
DESCRIPTION:Diese Terminart ist leider nicht verfügbar\, bitte versuchen Sie es später erneut
URL:https://amys-pfotenschule.at/event/offene-gruppenstunde-freies-training/
LOCATION:Amys Pfotenschule\, Fading\, Gaspoltshofen\, 4673\, Austria
ATTACH;FMTTYPE=image/png:https://amys-pfotenschule.at/wp-content/uploads/2025/05/Home-22.png
END:VEVENT
BEGIN:VEVENT
DTSTART;TZID=Europe/Berlin:20251107T160000
DTEND;TZID=Europe/Berlin:20251107T170000
DTSTAMP:20260425T043909
CREATED:20250924T105831Z
LAST-MODIFIED:20251020T113943Z
UID:2880-1762531200-1762534800@amys-pfotenschule.at
SUMMARY:Sozial Walk
DESCRIPTION:Diese Terminart ist leider nicht verfügbar\, bitte versuchen Sie es später erneut\n 
URL:https://amys-pfotenschule.at/event/sommer-special-sozial-walk-7/
ATTACH;FMTTYPE=image/png:https://amys-pfotenschule.at/wp-content/uploads/2025/05/Home-15.png
END:VEVENT
BEGIN:VEVENT
DTSTART;TZID=Europe/Berlin:20251102T100000
DTEND;TZID=Europe/Berlin:20251102T110000
DTSTAMP:20260425T043909
CREATED:20250924T110133Z
LAST-MODIFIED:20251020T113955Z
UID:2884-1762077600-1762081200@amys-pfotenschule.at
SUMMARY:Sozial Walk
DESCRIPTION:Diese Terminart ist leider nicht verfügbar\, bitte versuchen Sie es später erneut\n 
URL:https://amys-pfotenschule.at/event/sommer-special-sozial-walk-9/
ATTACH;FMTTYPE=image/png:https://amys-pfotenschule.at/wp-content/uploads/2025/05/Home-15.png
END:VEVENT
BEGIN:VEVENT
DTSTART;TZID=Europe/Berlin:20251102T090000
DTEND;TZID=Europe/Berlin:20251102T100000
DTSTAMP:20260425T043909
CREATED:20250924T104907Z
LAST-MODIFIED:20250924T105125Z
UID:2876-1762074000-1762077600@amys-pfotenschule.at
SUMMARY:offene Gruppenstunde - Rückruf & Freilauf
DESCRIPTION:Diese Terminart ist leider nicht verfügbar\, bitte versuchen Sie es später erneut\n 
URL:https://amys-pfotenschule.at/event/offene-gruppenstunde-rueckruf-freilauf/
ATTACH;FMTTYPE=image/png:https://amys-pfotenschule.at/wp-content/uploads/2024/02/Design-ohne-Titel-21.png
END:VEVENT
BEGIN:VEVENT
DTSTART;TZID=Europe/Berlin:20251026T100000
DTEND;TZID=Europe/Berlin:20251026T110000
DTSTAMP:20260425T043909
CREATED:20250924T111356Z
LAST-MODIFIED:20251020T113627Z
UID:2895-1761472800-1761476400@amys-pfotenschule.at
SUMMARY:Spielstunde
DESCRIPTION:Diese Terminart ist leider nicht verfügbar\, bitte versuchen Sie es später erneut\n 
URL:https://amys-pfotenschule.at/event/spielstunde-3/
LOCATION:Amys Pfotenschule\, Fading\, Gaspoltshofen\, 4673\, Austria
ATTACH;FMTTYPE=image/png:https://amys-pfotenschule.at/wp-content/uploads/2023/01/Kein-Titel-Logo-8.png
END:VEVENT
BEGIN:VEVENT
DTSTART;TZID=Europe/Berlin:20251026T090000
DTEND;TZID=Europe/Berlin:20251026T100000
DTSTAMP:20260425T043909
CREATED:20250505T095844Z
LAST-MODIFIED:20250924T104735Z
UID:2554-1761469200-1761472800@amys-pfotenschule.at
SUMMARY:offene Gruppenstunde - Rückruf & Freilauf
DESCRIPTION:Diese Terminart ist leider nicht verfügbar\, bitte versuchen Sie es später erneut\n 
URL:https://amys-pfotenschule.at/event/offene-gruppenstunde-rueckruftraining/
ATTACH;FMTTYPE=image/png:https://amys-pfotenschule.at/wp-content/uploads/2024/02/Design-ohne-Titel-21.png
END:VEVENT
BEGIN:VEVENT
DTSTART;TZID=Europe/Berlin:20251024T160000
DTEND;TZID=Europe/Berlin:20251024T170000
DTSTAMP:20260425T043909
CREATED:20250924T110036Z
LAST-MODIFIED:20251020T114008Z
UID:2882-1761321600-1761325200@amys-pfotenschule.at
SUMMARY:Sozial Walk
DESCRIPTION:Diese Terminart ist leider nicht verfügbar\, bitte versuchen Sie es später erneut\n 
URL:https://amys-pfotenschule.at/event/sommer-special-sozial-walk-8/
ATTACH;FMTTYPE=image/png:https://amys-pfotenschule.at/wp-content/uploads/2025/05/Home-15.png
END:VEVENT
BEGIN:VEVENT
DTSTART;TZID=Europe/Berlin:20251012T090000
DTEND;TZID=Europe/Berlin:20251012T100000
DTSTAMP:20260425T043909
CREATED:20250920T060756Z
LAST-MODIFIED:20250920T060854Z
UID:2869-1760259600-1760263200@amys-pfotenschule.at
SUMMARY:offene Gruppenstunde - Hundebegegnungstraining
DESCRIPTION:Diese Terminart ist leider nicht verfügbar\, bitte versuchen Sie es später erneut\n 
URL:https://amys-pfotenschule.at/event/offene-gruppenstunde-hundebegegnungstraining/
LOCATION:Freibad Gaspoltshofen
ATTACH;FMTTYPE=image/png:https://amys-pfotenschule.at/wp-content/uploads/2023/01/Kein-Titel-Logo-9.png
END:VEVENT
BEGIN:VEVENT
DTSTART;TZID=Europe/Berlin:20251010T160000
DTEND;TZID=Europe/Berlin:20251010T170000
DTSTAMP:20260425T043909
CREATED:20250813T164420Z
LAST-MODIFIED:20251004T125430Z
UID:2848-1760112000-1760115600@amys-pfotenschule.at
SUMMARY:Sommer Special - Sozial Walk
DESCRIPTION:Diese Terminart ist leider nicht verfügbar\, bitte versuchen Sie es später erneut\n 
URL:https://amys-pfotenschule.at/event/sommer-special-sozial-walk-5/
ATTACH;FMTTYPE=image/png:https://amys-pfotenschule.at/wp-content/uploads/2025/05/Home-15.png
END:VEVENT
BEGIN:VEVENT
DTSTART;TZID=Europe/Berlin:20251005T100000
DTEND;TZID=Europe/Berlin:20251005T110000
DTSTAMP:20260425T043909
CREATED:20250713T201638Z
LAST-MODIFIED:20251004T130236Z
UID:2822-1759658400-1759662000@amys-pfotenschule.at
SUMMARY:Sommer Special - Sozial Walk
DESCRIPTION:Diese Terminart ist leider nicht verfügbar\, bitte versuchen Sie es später erneut\n 
URL:https://amys-pfotenschule.at/event/sommer-special-sozial-walk-4/
ATTACH;FMTTYPE=image/png:https://amys-pfotenschule.at/wp-content/uploads/2025/05/Home-15.png
END:VEVENT
BEGIN:VEVENT
DTSTART;TZID=Europe/Berlin:20251005T090000
DTEND;TZID=Europe/Berlin:20251005T100000
DTSTAMP:20260425T043909
CREATED:20250211T191434Z
LAST-MODIFIED:20250920T060609Z
UID:2150-1759654800-1759658400@amys-pfotenschule.at
SUMMARY:offene Gruppenstunde - Hundebegegnungstraining
DESCRIPTION:Diese Terminart ist leider nicht verfügbar\, bitte versuchen Sie es später erneut\n 
URL:https://amys-pfotenschule.at/event/offene-gruppenstunde-rueckruf-freilauf-impulsekontrolle/
LOCATION:Freibad Gaspoltshofen
ATTACH;FMTTYPE=image/png:https://amys-pfotenschule.at/wp-content/uploads/2023/01/Kein-Titel-Logo-9.png
END:VEVENT
BEGIN:VEVENT
DTSTART;TZID=Europe/Berlin:20251003T153000
DTEND;TZID=Europe/Berlin:20251003T163000
DTSTAMP:20260425T043909
CREATED:20250615T103652Z
LAST-MODIFIED:20250903T114603Z
UID:2781-1759505400-1759509000@amys-pfotenschule.at
SUMMARY:5x Mantrailing
DESCRIPTION:Diese Terminart ist leider nicht verfügbar\, bitte versuchen Sie es später erneut\n 
URL:https://amys-pfotenschule.at/event/mantrailing-7/
LOCATION:Amys Pfotenschule\, Fading\, Gaspoltshofen\, 4673\, Austria
ATTACH;FMTTYPE=image/png:https://amys-pfotenschule.at/wp-content/uploads/2025/05/Home-19.png
END:VEVENT
END:VCALENDAR