BEGIN:VCALENDAR
VERSION:2.0
PRODID:-//amys-pfotenschule.at - ECPv6.10.0//NONSGML v1.0//EN
CALSCALE:GREGORIAN
METHOD:PUBLISH
X-WR-CALNAME:amys-pfotenschule.at
X-ORIGINAL-URL:https://amys-pfotenschule.at
X-WR-CALDESC:Veranstaltungen für amys-pfotenschule.at
REFRESH-INTERVAL;VALUE=DURATION:PT1H
X-Robots-Tag:noindex
X-PUBLISHED-TTL:PT1H
BEGIN:VTIMEZONE
TZID:Europe/Berlin
BEGIN:DAYLIGHT
TZOFFSETFROM:+0100
TZOFFSETTO:+0200
TZNAME:CEST
DTSTART:20260329T010000
END:DAYLIGHT
BEGIN:STANDARD
TZOFFSETFROM:+0200
TZOFFSETTO:+0100
TZNAME:CET
DTSTART:20261025T010000
END:STANDARD
END:VTIMEZONE
BEGIN:VEVENT
DTSTART;VALUE=DATE:20260301
DTEND;VALUE=DATE:20260608
DTSTAMP:20260421T110449
CREATED:20260210T083405Z
LAST-MODIFIED:20260408T190844Z
UID:3147-1772323200-1780876799@amys-pfotenschule.at
SUMMARY:offene Gruppenstunde
DESCRIPTION: 
URL:https://amys-pfotenschule.at/event/offene-gruppenstunde/
LOCATION:Amys Pfotenschule\, Fading\, Gaspoltshofen\, 4673\, Austria
ATTACH;FMTTYPE=image/png:https://amys-pfotenschule.at/wp-content/uploads/2025/05/Home-22.png
END:VEVENT
BEGIN:VEVENT
DTSTART;VALUE=DATE:20260306
DTEND;VALUE=DATE:20260704
DTSTAMP:20260421T110449
CREATED:20251228T095914Z
LAST-MODIFIED:20260408T190816Z
UID:3117-1772755200-1783123199@amys-pfotenschule.at
SUMMARY:Mantrailing
DESCRIPTION:  \n 
URL:https://amys-pfotenschule.at/event/mantrailing-13/
LOCATION:Amys Pfotenschule\, Fading\, Gaspoltshofen\, 4673\, Austria
ATTACH;FMTTYPE=image/png:https://amys-pfotenschule.at/wp-content/uploads/2024/12/Grey-Photo-Studio-Camera-Penline-Logo-1080-x-1080-px-4.png
END:VEVENT
BEGIN:VEVENT
DTSTART;TZID=Europe/Berlin:20260511T160000
DTEND;TZID=Europe/Berlin:20260511T164500
DTSTAMP:20260421T110449
CREATED:20260408T195950Z
LAST-MODIFIED:20260408T200100Z
UID:3617-1778515200-1778517900@amys-pfotenschule.at
SUMMARY:Sozial Walk 45min
DESCRIPTION:
URL:https://amys-pfotenschule.at/event/sozial-walk-45min/
LOCATION:Amys Pfotenschule\, Fading\, Gaspoltshofen\, 4673\, Austria
ATTACH;FMTTYPE=image/png:https://amys-pfotenschule.at/wp-content/uploads/2025/05/Home-15.png
END:VEVENT
BEGIN:VEVENT
DTSTART;TZID=Europe/Berlin:20260515T160000
DTEND;TZID=Europe/Berlin:20260515T170000
DTSTAMP:20260421T110449
CREATED:20260408T192703Z
LAST-MODIFIED:20260408T193242Z
UID:3597-1778860800-1778864400@amys-pfotenschule.at
SUMMARY:KLASSE 2 - Giftköder (4 Einheiten)
DESCRIPTION:
URL:https://amys-pfotenschule.at/event/giftkoeder/
LOCATION:Wird per Whatsapp bekannt gegeben
ATTACH;FMTTYPE=image/png:https://amys-pfotenschule.at/wp-content/uploads/2024/09/Grey-Photo-Studio-Camera-Penline-Logo-5.png
END:VEVENT
BEGIN:VEVENT
DTSTART;TZID=Europe/Berlin:20260525T150000
DTEND;TZID=Europe/Berlin:20260525T163000
DTSTAMP:20260421T110449
CREATED:20260408T193630Z
LAST-MODIFIED:20260408T194824Z
UID:3601-1779721200-1779726600@amys-pfotenschule.at
SUMMARY:Sozial Walk Stadttraining in Grieskirchen (1\,5 Std.)
DESCRIPTION:
URL:https://amys-pfotenschule.at/event/sozial-walk-3/
LOCATION:Grieskirchen\, Grieskirhcen
ATTACH;FMTTYPE=image/png:https://amys-pfotenschule.at/wp-content/uploads/2025/05/Home-18.png
END:VEVENT
BEGIN:VEVENT
DTSTART;TZID=Europe/Berlin:20260531T101500
DTEND;TZID=Europe/Berlin:20260531T110000
DTSTAMP:20260421T110449
CREATED:20260408T195142Z
LAST-MODIFIED:20260408T195304Z
UID:3613-1780222500-1780225200@amys-pfotenschule.at
SUMMARY:Spielstunde (45min)
DESCRIPTION: 
URL:https://amys-pfotenschule.at/event/spielstunde-45min/
LOCATION:Amys Pfotenschule\, Fading\, Gaspoltshofen\, 4673\, Austria
ATTACH;FMTTYPE=image/png:https://amys-pfotenschule.at/wp-content/uploads/2023/01/Kein-Titel-Logo-8.png
END:VEVENT
END:VCALENDAR